BEGIN:VCALENDAR
VERSION:2.0
PRODID:-//ChamberMaster//Event Calendar 2.0//EN
METHOD:PUBLISH
X-PUBLISHED-TTL:P3D
REFRESH-INTERVAL:P3D
CALSCALE:GREGORIAN
BEGIN:VEVENT
DTSTART;VALUE=DATE:20120707
DTEND;VALUE=DATE:20120708
TRANSP:TRANSPARENT
X-MICROSOFT-CDO-ALLDAYEVENT:TRUE
SUMMARY:Salvation Army Thrift Store Family Day
DESCRIPTION:Salvation Army Thrift Store Family Day\n\n\n\nSaturday\, July 7\n\n\n\n624 Market Street\, Beatrice\n\n\n\n20% off total sale for persons 19 to 54 years of age.
X-ALT-DESC;FMTTYPE=text/html:Salvation&nbsp\;Army Thrift&nbsp\;Store Family&nbsp\;Day<br />\n<br />\nSaturday\, July 7<br />\n<br />\n624&nbsp\;Market Street\, Beatrice<br />\n<br />\n20% off total sale for persons 19 to&nbsp\;54 years of age.
LOCATION:
UID:e.41.5943
SEQUENCE:3
DTSTAMP:20260422T114211Z
URL:https://business.beatricechamber.com/events/details/salvation-army-thrift-store-family-day-07-07-2012-5943
END:VEVENT

END:VCALENDAR
