BEGIN:VCALENDAR
VERSION:2.0
PRODID:-//ChamberMaster//Event Calendar 2.0//EN
METHOD:PUBLISH
X-PUBLISHED-TTL:P3D
REFRESH-INTERVAL:P3D
CALSCALE:GREGORIAN
BEGIN:VEVENT
DTSTART;VALUE=DATE:20110820
DTEND;VALUE=DATE:20110821
TRANSP:TRANSPARENT
X-MICROSOFT-CDO-ALLDAYEVENT:TRUE
SUMMARY:Salvation Army Thrift Store Family Day
DESCRIPTION:624 Market Street\, Beatrice\, NE.  20% off total sale for persons 19 to 54 years of age.
X-ALT-DESC;FMTTYPE=text/html:624 Market Street\, Beatrice\, NE.&nbsp\; 20% off total sale for persons 19 to 54 years of age.
LOCATION:
UID:e.41.5009
SEQUENCE:3
DTSTAMP:20260424T135937Z
URL:https://business.beatricechamber.com/events/details/salvation-army-thrift-store-family-day-08-20-2011-5009
END:VEVENT

END:VCALENDAR
