BEGIN:VCALENDAR
VERSION:2.0
PRODID:-//ChamberMaster//Event Calendar 2.0//EN
METHOD:PUBLISH
X-PUBLISHED-TTL:P3D
REFRESH-INTERVAL:P3D
CALSCALE:GREGORIAN
BEGIN:VEVENT
DTSTART;VALUE=DATE:20120309
DTEND;VALUE=DATE:20120310
TRANSP:TRANSPARENT
X-MICROSOFT-CDO-ALLDAYEVENT:TRUE
SUMMARY:Sam & Louie's & Girl Scouts
DESCRIPTION:Friday\, March 16\n\n11:00 a.m.   9:00 p.m.\n\n\n\nSam and Louie's in Beatrice will be donating 10% of all proceeds to the Girl Scouts in honor of our 100th Anniversary.  I thought you might have some people from the college who would be interested in eating there on Friday to support Girl Scouting and enjoy some good food.
X-ALT-DESC;FMTTYPE=text/html:<span style="font-size: 11pt"><span style="color: black"><span style="font-family: calibri\, sans-serif">Friday\, March 16<br />\n11:00 a.m. &ndash\; 9:00 p.m.<br />\n<br />\nSam and Louie&rsquo\;s in Beatrice will be donating 10% of all proceeds to the Girl Scouts in honor of our 100<sup>th</sup> Anniversary.&nbsp\; I thought you might have some people from the college who would be interested in eating there on Friday to support Girl Scouting and enjoy some good food.&nbsp\; </span></span></span>
LOCATION:
UID:e.41.5420
SEQUENCE:3
DTSTAMP:20260422T173307Z
URL:https://business.beatricechamber.com/events/details/sam-louie-s-girl-scouts-03-09-2012-5420
END:VEVENT

END:VCALENDAR
