BEGIN:VCALENDAR
VERSION:2.0
PRODID:-//ChamberMaster//Event Calendar 2.0//EN
METHOD:PUBLISH
X-PUBLISHED-TTL:P3D
REFRESH-INTERVAL:P3D
CALSCALE:GREGORIAN
BEGIN:VEVENT
DTSTART;VALUE=DATE:20120829
DTEND;VALUE=DATE:20120830
TRANSP:TRANSPARENT
X-MICROSOFT-CDO-ALLDAYEVENT:TRUE
SUMMARY:Sam's Club Grand Opening
DESCRIPTION:Starting at 8:00 am Sam's Club Grand Opening\n\n8600 Andermatt drive suite 1\n\nLincoln\, Ne
X-ALT-DESC;FMTTYPE=text/html:Starting at 8:00 am Sam&#39\;s Club Grand Opening<br />\n8600 Andermatt drive suite 1<br />\nLincoln\, Ne
LOCATION:
UID:e.41.6335
SEQUENCE:3
DTSTAMP:20260422T100550Z
URL:https://business.beatricechamber.com/events/details/sam-s-club-grand-opening-08-29-2012-6335
END:VEVENT

END:VCALENDAR
