BEGIN:VCALENDAR
VERSION:2.0
PRODID:-//ChamberMaster//Event Calendar 2.0//EN
METHOD:PUBLISH
X-PUBLISHED-TTL:P3D
REFRESH-INTERVAL:P3D
CALSCALE:GREGORIAN
BEGIN:VEVENT
DTSTART;VALUE=DATE:20110603
DTEND;VALUE=DATE:20110606
TRANSP:TRANSPARENT
X-MICROSOFT-CDO-ALLDAYEVENT:TRUE
SUMMARY:Sam Wymore Days
DESCRIPTION:24th Annual Sam Wymore Days\n\n"My Younger Days"\n\n\n\nJune 3\, 4\, 5\n\n\n\nWymore\, NE\n\n\n\nFor complete schedule:\n\nhttp://www.wymorebluesprings.com/wymore_days.pdf \n\n\n\n\n	We would like to invite you to participate in this years Sam Wymore Days Parade on June 4th at 10:30 am.  Awards will be given to:  Best Theme\, Best Organization\, Best Business\, and Judges Choice.  Theme for this year's even is My Younger Years.  The parade will also be broadcasted live on KWBE 1450 AM.\n\n	Download the Parade Entry Form.  For more information\, call Rhonda Brownawell at 402-674-3205.
X-ALT-DESC;FMTTYPE=text/html:<span style="font-size: 16px"><strong>24th Annual Sam Wymore Days</strong><br />\n&quot\;My Younger Days&quot\;<br />\n<br />\nJune 3\, 4\, 5<br />\n<br />\nWymore\, NE</span><br />\n<br />\nFor complete schedule:<br />\n<a href="http://www.wymorebluesprings.com/wymore_days.pdf">http://www.wymorebluesprings.com/wymore_days.pdf</a>&nbsp\;<br />\n<br />\n<p>\n	We would like to invite you to participate in this years Sam Wymore Days Parade on June 4th at 10:30 am.&nbsp\; Awards will be given to:&nbsp\; Best Theme\, Best Organization\, Best Business\, and Judges Choice.&nbsp\; Theme for this year&#39\;s even is My Younger Years.&nbsp\; The parade will also be broadcasted live on KWBE 1450 AM.</p>\n<p>\n	Download the <strong><a href="parade_form.pdf" target="_blank">Parade Entry Form</a></strong>.&nbsp\; For more information\, call Rhonda Brownawell at 402-674-3205.</p>\n
LOCATION:
UID:e.41.4825
SEQUENCE:3
DTSTAMP:20260424T165345Z
URL:https://business.beatricechamber.com/events/details/sam-wymore-days-06-03-2011-4825
END:VEVENT

END:VCALENDAR
