BEGIN:VCALENDAR
VERSION:2.0
PRODID:-//ChamberMaster//Event Calendar 2.0//EN
METHOD:PUBLISH
X-PUBLISHED-TTL:P3D
REFRESH-INTERVAL:P3D
CALSCALE:GREGORIAN
BEGIN:VEVENT
DTSTART;VALUE=DATE:20090605
DTEND;VALUE=DATE:20090608
TRANSP:TRANSPARENT
X-MICROSOFT-CDO-ALLDAYEVENT:TRUE
SUMMARY:Sam Wymore Days
DESCRIPTION:Arbor State Park
X-ALT-DESC;FMTTYPE=text/html:<div>Arbor State Park</div>
LOCATION:
UID:e.41.1055
SEQUENCE:3
DTSTAMP:20260426T042604Z
URL:https://business.beatricechamber.com/events/details/sam-wymore-days-06-05-2009-1055
END:VEVENT

END:VCALENDAR
