BEGIN:VCALENDAR
VERSION:2.0
PRODID:-//ChamberMaster//Event Calendar 2.0//EN
METHOD:PUBLISH
X-PUBLISHED-TTL:P3D
REFRESH-INTERVAL:P3D
CALSCALE:GREGORIAN
BEGIN:VEVENT
DTSTART;VALUE=DATE:20100604
DTEND;VALUE=DATE:20100607
TRANSP:TRANSPARENT
X-MICROSOFT-CDO-ALLDAYEVENT:TRUE
SUMMARY:Sam Wymore Days 6/4-6/2010
DESCRIPTION:Sam Wymore Days Come and celebrate the 23rd Annual Sam Wymore Days in Wymore\, NE\, June 4-5-6\, 2010.  Circus - under the big top! All events coordinated by: Southern Gage Community Pride Group.  For more information contact: Rhonda Brownawell at 402-674-3205\, Hazel Percival at 402-645-3145\, or Lori Novotny at 402-645-3693 or www.wymorebluesprings.com
X-ALT-DESC;FMTTYPE=text/html:<div><div><font style="font-size: 14pt"><strong>Sam Wymore Days</strong> <div><font style="font-size: 12pt">Come and celebrate the 23rd Annual Sam Wymore Days in Wymore\, NE\,<strong> June 4-5-6\, 2010</strong>. </font></div><div>&nbsp\;</div><div><font style="font-size: 12pt">Circus - under the big top! All events coordinated by: Southern Gage Community Pride Group. </font></div><div>&nbsp\;</div><div><font style="font-size: 12pt">For more information contact: Rhonda Brownawell at 402-674-3205\, Hazel Percival at 402-645-3145\, or Lori Novotny at 402-645-3693 or <a title="http://r20.rs6.net/tn.jsp?t=yxk67tdab.0.0.y9l6kddab.0&amp\;ts=S0476&amp\;p=http%3A%2F%2Fwww.wymorebluesprings.com%2F&amp\;id=preview" href="http://r20.rs6.net/tn.jsp?t=yxk67tdab.0.0.y9l6kddab.0&amp\;ts=S0476&amp\;p=http%3A%2F%2Fwww.wymorebluesprings.com%2F&amp\;id=preview" shape="rect" target="_blank">www.wymorebluesprings.com</a> </font></div></font></div></div>
LOCATION:
UID:e.41.2002
SEQUENCE:3
DTSTAMP:20260425T105436Z
URL:https://business.beatricechamber.com/events/details/sam-wymore-days-6-4-6-2010-06-04-2010-2002
END:VEVENT

END:VCALENDAR
