BEGIN:VCALENDAR
VERSION:2.0
PRODID:-//ChamberMaster//Event Calendar 2.0//EN
METHOD:PUBLISH
X-PUBLISHED-TTL:P3D
REFRESH-INTERVAL:P3D
CALSCALE:GREGORIAN
BEGIN:VEVENT
DTSTART;VALUE=DATE:20110614
DTEND;VALUE=DATE:20110615
TRANSP:TRANSPARENT
X-MICROSOFT-CDO-ALLDAYEVENT:TRUE
SUMMARY:"Sandhill Stories: Changing Homstead in Nebraska"
DESCRIPTION:2 p.m. for children and 7:30 p.m. for adults.  This event will be held at the Beatrice Public Library at 16th and Court Street..  Presented by Cherrie Beam-Clark.\n\n\n\nFor more information call 402-223-3584.
X-ALT-DESC;FMTTYPE=text/html:2 p.m. for children and 7:30 p.m. for adults.&nbsp\; This event will be held at the Beatrice Public Library at 16th and Court Street..&nbsp\; Presented by Cherrie Beam-Clark.<br />\n<br />\nFor more information call 402-223-3584.
LOCATION:
UID:e.41.4876
SEQUENCE:3
DTSTAMP:20260424T165900Z
URL:https://business.beatricechamber.com/events/details/sandhill-stories-changing-homstead-in-nebraska-06-14-2011-4876
END:VEVENT

END:VCALENDAR
