BEGIN:VCALENDAR
VERSION:2.0
PRODID:-//ChamberMaster//Event Calendar 2.0//EN
METHOD:PUBLISH
X-PUBLISHED-TTL:P3D
REFRESH-INTERVAL:P3D
CALSCALE:GREGORIAN
BEGIN:VEVENT
DTSTART;VALUE=DATE:20101218
DTEND;VALUE=DATE:20101219
TRANSP:TRANSPARENT
X-MICROSOFT-CDO-ALLDAYEVENT:TRUE
SUMMARY:Santa Claus in Cortland
DESCRIPTION:Cortland Community Event:\n\n\n	Saturday\, December 18 -\n\n	Santa Claus at 9 a.m. - Noon at the Community Center.
X-ALT-DESC;FMTTYPE=text/html:Cortland Community Event:<br />\n<div>\n	<strong>Saturday\, December 18</strong> -</div>\n<div>\n	Santa Claus at 9 a.m. - Noon at the Community Center.</div>\n
LOCATION:
UID:e.41.2625
SEQUENCE:3
DTSTAMP:20260425T014530Z
URL:https://business.beatricechamber.com/events/details/santa-claus-in-cortland-12-18-2010-2625
END:VEVENT

END:VCALENDAR
