BEGIN:VCALENDAR
VERSION:2.0
PRODID:-//ChamberMaster//Event Calendar 2.0//EN
METHOD:PUBLISH
X-PUBLISHED-TTL:P3D
REFRESH-INTERVAL:P3D
CALSCALE:GREGORIAN
BEGIN:VEVENT
DTSTART;VALUE=DATE:20101204
DTEND;VALUE=DATE:20101205
TRANSP:TRANSPARENT
X-MICROSOFT-CDO-ALLDAYEVENT:TRUE
SUMMARY:Santa Claus is coming to Downtown!
DESCRIPTION:Santa Clause is coming to Downtown!\n\n\n\nWhen: Saturday\, Dec. 4- 11:30- 1:30\n\n\n\nWhere: Lobby of Lost Coast and Quilt Stitches\n\n514 Court Street\n\n\n\nSanta arrives in a horse-drawn trolley. Bring your camera. Free trollety rides! Don't forget to register to win the Giant Stocking!
X-ALT-DESC;FMTTYPE=text/html:<strong><span style="font-size: 14px">Santa Clause is coming to Downtown!</span></strong><br />\n<br />\nWhen: Saturday\, Dec. 4- 11:30- 1:30<br />\n<br />\nWhere: Lobby of Lost Coast and Quilt Stitches<br />\n514 Court Street<br />\n<br />\nSanta arrives in a horse-drawn trolley. Bring your camera. Free trollety rides! Don&#39\;t forget to register to win the Giant Stocking!
LOCATION:
UID:e.41.2773
SEQUENCE:3
DTSTAMP:20260425T014602Z
URL:https://business.beatricechamber.com/events/details/santa-claus-is-coming-to-downtown-12-04-2010-2773
END:VEVENT

END:VCALENDAR
