BEGIN:VCALENDAR
VERSION:2.0
PRODID:-//ChamberMaster//Event Calendar 2.0//EN
METHOD:PUBLISH
X-PUBLISHED-TTL:P3D
REFRESH-INTERVAL:P3D
CALSCALE:GREGORIAN
BEGIN:VEVENT
DTSTART;VALUE=DATE:20101211
DTEND;VALUE=DATE:20101212
TRANSP:TRANSPARENT
X-MICROSOFT-CDO-ALLDAYEVENT:TRUE
SUMMARY:Santa Claus is coming to Downtown!
DESCRIPTION:Santa Clause is coming to Downtown!\n\n	\n\n	When: Saturday\, Dec. 11- 11:30-2:00\n\n	\n\n	Where: Lobby of Lost Coast and Quilt Stitches\n\n	                514 Court Street\n\n	\n\n	Apple Studios will be available fo r professional photographs of your family with Santa! 3x5 for only $3.99! Don't forget to register to win the Giant Stocking!
X-ALT-DESC;FMTTYPE=text/html:<p>\n	<strong><span style="font-size: 14px">Santa Clause is coming to Downtown!</span></strong><br />\n	<br />\n	When: Saturday\, Dec. 11- 11:30-2:00<br />\n	<br />\n	Where: Lobby of Lost Coast and Quilt Stitches<br />\n	&nbsp\;&nbsp\;&nbsp\;&nbsp\;&nbsp\;&nbsp\;&nbsp\;&nbsp\;&nbsp\;&nbsp\;&nbsp\;&nbsp\;&nbsp\;&nbsp\;&nbsp\;&nbsp\;514 Court Street<br />\n	<br />\n	Apple Studios will be available fo r professional photographs of your family with Santa! 3x5 for only $3.99! Don&#39\;t forget to register to win the Giant Stocking!</p>\n
LOCATION:
UID:e.41.2774
SEQUENCE:3
DTSTAMP:20260425T014537Z
URL:https://business.beatricechamber.com/events/details/santa-claus-is-coming-to-downtown-12-11-2010-2774
END:VEVENT

END:VCALENDAR
