BEGIN:VCALENDAR
VERSION:2.0
PRODID:-//ChamberMaster//Event Calendar 2.0//EN
METHOD:PUBLISH
X-PUBLISHED-TTL:P3D
REFRESH-INTERVAL:P3D
CALSCALE:GREGORIAN
BEGIN:VEVENT
DTSTART;VALUE=DATE:20101218
DTEND;VALUE=DATE:20101219
TRANSP:TRANSPARENT
X-MICROSOFT-CDO-ALLDAYEVENT:TRUE
SUMMARY:Santa Claus is coming to Downtown!
DESCRIPTION:Santa Claus is coming to Downtown!\n\n\n\nWhen: Saturday\, Dec. 18 - 11:30-1:30\n\n\n\nWhere: Lobby of Lost Coast and Quilt Stitches\n\n                514 Court Street\n\n\n\nBring your camera to capture your special holiday memories and don't forget to register to win the Giant Stocking!\n\n\n\n223-3244
X-ALT-DESC;FMTTYPE=text/html:<strong>Santa Claus is coming to Downtown!<br />\n<br />\nWhen: Saturday\, Dec. 18 - 11:30-1:30<br />\n<br />\nWhere: Lobby of Lost Coast and Quilt Stitches<br />\n&nbsp\;&nbsp\;&nbsp\;&nbsp\;&nbsp\;&nbsp\;&nbsp\;&nbsp\;&nbsp\;&nbsp\;&nbsp\;&nbsp\;&nbsp\;&nbsp\;&nbsp\;&nbsp\;514 Court Street<br />\n<br />\nBring your camera to capture your special holiday memories and don&#39\;t forget to register to win the Giant Stocking!<br />\n<br />\n223-3244</strong>
LOCATION:
UID:e.41.2775
SEQUENCE:3
DTSTAMP:20260425T014537Z
URL:https://business.beatricechamber.com/events/details/santa-claus-is-coming-to-downtown-12-18-2010-2775
END:VEVENT

END:VCALENDAR
