BEGIN:VCALENDAR
VERSION:2.0
PRODID:-//ChamberMaster//Event Calendar 2.0//EN
METHOD:PUBLISH
X-PUBLISHED-TTL:P3D
REFRESH-INTERVAL:P3D
CALSCALE:GREGORIAN
BEGIN:VEVENT
DTSTART;VALUE=DATE:20101219
DTEND;VALUE=DATE:20101220
TRANSP:TRANSPARENT
X-MICROSOFT-CDO-ALLDAYEVENT:TRUE
SUMMARY:Santa Claus is coming to Downtown!
DESCRIPTION:Santa Claus is coming to Downtown!\n\n\n\nWhen: Sunday\, Dec. 19- 11:30-1:30\n\n\n\nWhere: Valentino's
X-ALT-DESC;FMTTYPE=text/html:<strong><span style="font-size: 14px">Santa Claus is coming to Downtown!</span></strong><br />\n<br />\nWhen: Sunday\, Dec. 19- 11:30-1:30<br />\n<br />\nWhere: Valentino&#39\;s
LOCATION:
UID:e.41.2776
SEQUENCE:3
DTSTAMP:20260425T014531Z
URL:https://business.beatricechamber.com/events/details/santa-claus-is-coming-to-downtown-12-19-2010-2776
END:VEVENT

END:VCALENDAR
