BEGIN:VCALENDAR
VERSION:2.0
PRODID:-//ChamberMaster//Event Calendar 2.0//EN
METHOD:PUBLISH
X-PUBLISHED-TTL:P3D
REFRESH-INTERVAL:P3D
CALSCALE:GREGORIAN
BEGIN:VEVENT
DTSTART:20091219T190000Z
DTEND:20091219T210000Z
X-MICROSOFT-CDO-ALLDAYEVENT:FALSE
SUMMARY:Santa's Last Visit to Downtown
DESCRIPTION:Santa is downtown!  Make your last request to Santa!! Giant Stocking Give-Away! Santa's Workshop Open from 1:00 - 3:00 pmSanta's Workshop is at 505 Court St. All workshops feature Santa or his helpers plus complimentary games\, prizes\, drawings\, treats\, beverages\, and fun!
X-ALT-DESC;FMTTYPE=text/html:<div><div>Santa is downtown!&nbsp\; Make your last request to Santa!!&nbsp\;</div><div>Giant Stocking Give-Away!</div><div>&nbsp\;</div><div><div><div>Santa&rsquo\;s Workshop Open from 1:00 - 3:00 pm</div><div>Santa&rsquo\;s Workshop is at 505 Court St.</div><div>&nbsp\;</div><div>All workshops feature Santa or his helpers plus complimentary games\, prizes\, drawings\, treats\, beverages\, and fun!</div><div>&nbsp\;</div><div>&nbsp\;</div></div></div></div>
LOCATION:
UID:e.41.1535
SEQUENCE:3
DTSTAMP:20260425T194210Z
URL:https://business.beatricechamber.com/events/details/santa-s-last-visit-to-downtown-12-19-2009-1535
END:VEVENT

END:VCALENDAR
