BEGIN:VCALENDAR
VERSION:2.0
PRODID:-//ChamberMaster//Event Calendar 2.0//EN
METHOD:PUBLISH
X-PUBLISHED-TTL:P3D
REFRESH-INTERVAL:P3D
CALSCALE:GREGORIAN
BEGIN:VEVENT
DTSTART:20091129T190000Z
DTEND:20091129T210000Z
X-MICROSOFT-CDO-ALLDAYEVENT:FALSE
SUMMARY:Santa's Workshop Open downtown
DESCRIPTION:Santa is downtown! Talk to Santa at Santa's Workshop from Noon - 2:00 pmSanta's Workshop is at 505 Couirt St. All workshops feature Santa or his helpers plus complimentary games\, prizes\, drawings\, treats\, beverages\, and fun!
X-ALT-DESC;FMTTYPE=text/html:<div><div>Santa is downtown!&nbsp\;</div><div>Talk to Santa at Santa's Workshop from Noon - 2:00 pm</div><div>Santa's Workshop is at 505 Couirt St.</div><div>&nbsp\;</div><div>All workshops feature Santa or his helpers plus complimentary games\, prizes\, drawings\, treats\, beverages\, and fun!</div></div>
LOCATION:
UID:e.41.1532
SEQUENCE:3
DTSTAMP:20260425T204639Z
URL:https://business.beatricechamber.com/events/details/santa-s-workshop-open-downtown-11-29-2009-1532
END:VEVENT

END:VCALENDAR
