BEGIN:VCALENDAR
VERSION:2.0
PRODID:-//ChamberMaster//Event Calendar 2.0//EN
METHOD:PUBLISH
X-PUBLISHED-TTL:P3D
REFRESH-INTERVAL:P3D
CALSCALE:GREGORIAN
BEGIN:VEVENT
DTSTART;VALUE=DATE:20101114
DTEND;VALUE=DATE:20101115
TRANSP:TRANSPARENT
X-MICROSOFT-CDO-ALLDAYEVENT:TRUE
SUMMARY:"Santee Sorrow: A Story from the Devil's Nest of the Dakota"
DESCRIPTION:"Santee Sorrow: A Story from the Devil's Nest of the Dakota"\n\n\n\n2 p.m.\, program\, Homestead Education Center\, west of Beatrice on Highway 4. Dennis Vosberg\, author of the recently released book on little known stories about the Santee Reservation in Nebraska.
X-ALT-DESC;FMTTYPE=text/html:<strong><span style="font-size: 14px">&quot\;Santee Sorrow: A Story from the Devil&#39\;s Nest of the Dakota&quot\;</span></strong><br />\n<br />\n2 p.m.\, program\, Homestead Education Center\, west of Beatrice on Highway 4. Dennis Vosberg\, author of the recently released book on little known stories about the Santee Reservation in Nebraska.
LOCATION:
UID:e.41.2809
SEQUENCE:3
DTSTAMP:20260425T033059Z
URL:https://business.beatricechamber.com/events/details/santee-sorrow-a-story-from-the-devil-s-nest-of-the-dakota-11-14-2010-2809
END:VEVENT

END:VCALENDAR
