BEGIN:VCALENDAR
VERSION:2.0
PRODID:-//ChamberMaster//Event Calendar 2.0//EN
METHOD:PUBLISH
X-PUBLISHED-TTL:P3D
REFRESH-INTERVAL:P3D
CALSCALE:GREGORIAN
BEGIN:VEVENT
DTSTART;VALUE=DATE:20100305
DTEND;VALUE=DATE:20100306
TRANSP:TRANSPARENT
X-MICROSOFT-CDO-ALLDAYEVENT:TRUE
SUMMARY:Sara McQuad Free Concert
DESCRIPTION:Sarah McQuad\, singer/guitaristFree Concerthosted by Southeast Community College's Diversity Department Friday\, March 5\, 2010 The Lang Building (6th & Ella)Beatrice\, NE Concert is offered free to the public. For more details\, call 402-742-0477
X-ALT-DESC;FMTTYPE=text/html:<div>Sarah McQuad\, singer/guitarist</div><div>Free Concert</div><div>hosted by Southeast Community College's Diversity Department</div><div>&nbsp\;</div><div>Friday\, March 5\, 2010</div><div>&nbsp\;</div><div>The Lang Building (6th &amp\;&nbsp\;Ella)</div><div>Beatrice\, NE</div><div>&nbsp\;</div><div>Concert is offered free to the public.</div><div>&nbsp\;</div><div>For more details\, call 402-742-0477</div>
LOCATION:
UID:e.41.1663
SEQUENCE:3
DTSTAMP:20260425T152851Z
URL:https://business.beatricechamber.com/events/details/sara-mcquad-free-concert-03-05-2010-1663
END:VEVENT

END:VCALENDAR
