BEGIN:VCALENDAR
VERSION:2.0
PRODID:-//ChamberMaster//Event Calendar 2.0//EN
METHOD:PUBLISH
X-PUBLISHED-TTL:P3D
REFRESH-INTERVAL:P3D
CALSCALE:GREGORIAN
BEGIN:VEVENT
DTSTART;VALUE=DATE:20110930
DTEND;VALUE=DATE:20111001
TRANSP:TRANSPARENT
X-MICROSOFT-CDO-ALLDAYEVENT:TRUE
SUMMARY:Sarah McQuaid In Concert
DESCRIPTION:World-renowned musician making stop in Beatrice\n\nSarah McQuaid\, balladeer\, songwriter and guitar tutor\n\n\n\nFriday\, September 30\n\n7 pm\n\n\n\nLang Building\, Sixth & Ella\n\nBeatrice\, NE\n\n\n\nFor more information\, visit www.firstumclincoln.org or call 402-466-1906
X-ALT-DESC;FMTTYPE=text/html:World-renowned musician making stop in Beatrice<br />\nSarah McQuaid\, balladeer\, songwriter and guitar tutor<br />\n<br />\nFriday\, September 30<br />\n7 pm<br />\n<br />\nLang Building\, Sixth &amp\; Ella<br />\nBeatrice\, NE<br />\n<br />\nFor more information\, visit <a href="http://www.firstumclincoln.org">www.firstumclincoln.org</a> or call 402-466-1906
LOCATION:
UID:e.41.5136
SEQUENCE:3
DTSTAMP:20260424T123124Z
URL:https://business.beatricechamber.com/events/details/sarah-mcquaid-in-concert-09-30-2011-5136
END:VEVENT

END:VCALENDAR
