BEGIN:VCALENDAR
VERSION:2.0
PRODID:-//ChamberMaster//Event Calendar 2.0//EN
METHOD:PUBLISH
X-PUBLISHED-TTL:P3D
REFRESH-INTERVAL:P3D
CALSCALE:GREGORIAN
BEGIN:VEVENT
DTSTART;VALUE=DATE:20110109
DTEND;VALUE=DATE:20110110
TRANSP:TRANSPARENT
X-MICROSOFT-CDO-ALLDAYEVENT:TRUE
SUMMARY:Sausage Gravy & Biscuits Day
DESCRIPTION:Sausage Gravy & Biscuits Day\n\n@ Beatrice Senior Center\, 101 N 25th Street\, Beatrice\n\n\n\nSunday\, January 9\n\n10:30 a.m. - 1 p.m.\n\n\n\n\n\nIncludes eggs\, coffee cake\, fruit & drink.  Free will offering.
X-ALT-DESC;FMTTYPE=text/html:Sausage Gravy &amp\; Biscuits Day<br />\n@ Beatrice Senior Center\, 101 N 25th Street\, Beatrice<br />\n<br />\nSunday\, January 9<br />\n10:30 a.m. - 1 p.m.<br />\n<br />\n<br />\nIncludes eggs\, coffee cake\, fruit &amp\; drink.&nbsp\; Free will offering.
LOCATION:
UID:e.41.2940
SEQUENCE:3
DTSTAMP:20260425T014135Z
URL:https://business.beatricechamber.com/events/details/sausage-gravy-biscuits-day-01-09-2011-2940
END:VEVENT

END:VCALENDAR
