BEGIN:VCALENDAR
VERSION:2.0
PRODID:-//ChamberMaster//Event Calendar 2.0//EN
METHOD:PUBLISH
X-PUBLISHED-TTL:P3D
REFRESH-INTERVAL:P3D
CALSCALE:GREGORIAN
BEGIN:VEVENT
DTSTART;VALUE=DATE:20111004
DTEND;VALUE=DATE:20111005
TRANSP:TRANSPARENT
X-MICROSOFT-CDO-ALLDAYEVENT:TRUE
SUMMARY:SCC Action Committee
DESCRIPTION:SCC Action Committee Meeting:\n\nTuesday\, October 4\n\nNoon\n\n\n\nSoutheast Community College - Beatrice Campus - Kennedy Center\n\n\n\nJoin SCC Action Committee & Beatrice Area Chamber of Commerce as we present October's Student of the Month\, sponsored by Great Western Bank.\n\n\n\nFor more information\, contact Beatrice Area Chamber of Commerce\, 402-223-2338\n\nwww.beatricechamber.com
X-ALT-DESC;FMTTYPE=text/html:SCC Action Committee Meeting:<br />\nTuesday\, October 4<br />\nNoon<br />\n<br />\nSoutheast Community College - Beatrice Campus - Kennedy Center<br />\n<br />\nJoin SCC Action Committee&nbsp\;&amp\;&nbsp\;Beatrice Area Chamber of Commerce as we present October&#39\;s Student of the Month\, sponsored by Great Western Bank.<br />\n<br />\nFor more information\, contact Beatrice Area Chamber of Commerce\, 402-223-2338<br />\n<a href="http://www.beatricechamber.com">www.beatricechamber.com</a>
LOCATION:
UID:e.41.5141
SEQUENCE:3
DTSTAMP:20260424T111143Z
URL:https://business.beatricechamber.com/events/details/scc-action-committee-10-04-2011-5141
END:VEVENT

END:VCALENDAR
