BEGIN:VCALENDAR
VERSION:2.0
PRODID:-//ChamberMaster//Event Calendar 2.0//EN
METHOD:PUBLISH
X-PUBLISHED-TTL:P3D
REFRESH-INTERVAL:P3D
CALSCALE:GREGORIAN
BEGIN:VEVENT
DTSTART:20110405T170000Z
DTEND:20110405T180000Z
X-MICROSOFT-CDO-ALLDAYEVENT:FALSE
SUMMARY:SCC Action Committee Meeting
DESCRIPTION:Southeast Community College Action Committee\n\nof Beatrice Area Chamber of Commerce\n\n\n\nMeets 1st Tuesday of every month*\n\n*(For complete details\, contact Beatrice Area Chamber of Commerce\, (402) 223-2338)\n\n\n\nNoon\n\nSCC Kennedy Center\, Beatrice Campus
X-ALT-DESC;FMTTYPE=text/html:Southeast Community College Action Committee<br />\nof Beatrice Area Chamber of Commerce<br />\n<br />\nMeets 1st Tuesday of every month*<br />\n*(For complete details\, contact Beatrice Area Chamber of Commerce\, (402) 223-2338)<br />\n<br />\nNoon<br />\nSCC Kennedy Center\, Beatrice Campus<br />\n<br />\n
LOCATION:
UID:e.41.3633
SEQUENCE:3
DTSTAMP:20260424T200648Z
URL:https://business.beatricechamber.com/events/details/scc-action-committee-meeting-04-05-2011-3633
END:VEVENT

END:VCALENDAR
