BEGIN:VCALENDAR
VERSION:2.0
PRODID:-//ChamberMaster//Event Calendar 2.0//EN
METHOD:PUBLISH
X-PUBLISHED-TTL:P3D
REFRESH-INTERVAL:P3D
CALSCALE:GREGORIAN
BEGIN:VEVENT
DTSTART;VALUE=DATE:20110906
DTEND;VALUE=DATE:20110907
TRANSP:TRANSPARENT
X-MICROSOFT-CDO-ALLDAYEVENT:TRUE
SUMMARY:SCC Action Committee Meeting
DESCRIPTION:SCC Action Committee Meeting\n\n\n\nTuesday\, September 6\n\nNoon\n\n\n\nSoutheast Community College Kennedy Center\n\n\n\nJoin us as we present the SCC Nursing Student of the Month award\, sponsored by Good Samaritan Society.
X-ALT-DESC;FMTTYPE=text/html:SCC Action Committee Meeting<br />\n<br />\nTuesday\, September 6<br />\nNoon<br />\n<br />\nSoutheast Community College Kennedy Center<br />\n<br />\nJoin us as we present the SCC Nursing Student of the Month award\, sponsored by Good Samaritan Society.<br />\n
LOCATION:
UID:e.41.5095
SEQUENCE:3
DTSTAMP:20260424T123018Z
URL:https://business.beatricechamber.com/events/details/scc-action-committee-meeting-09-06-2011-5095
END:VEVENT

END:VCALENDAR
