BEGIN:VCALENDAR
VERSION:2.0
PRODID:-//ChamberMaster//Event Calendar 2.0//EN
METHOD:PUBLISH
X-PUBLISHED-TTL:P3D
REFRESH-INTERVAL:P3D
CALSCALE:GREGORIAN
BEGIN:VEVENT
DTSTART;VALUE=DATE:20110104
DTEND;VALUE=DATE:20110105
TRANSP:TRANSPARENT
X-MICROSOFT-CDO-ALLDAYEVENT:TRUE
SUMMARY:SCC Adult Education Orientation
DESCRIPTION:Weekly orientation schedule for persons who plan to enroll in Adult Education/General Educational Development classes at Southeast Community College\, Beatrice Campus:\n\n\n\nTuesday\, January 9\, 11\, 18 and 25\n\n9 a.m.\n\n\n\nAnnual registration fee of $20 required.  Limited space available.  To register\, call AE office at SCC at 228-8236 or 800-233-5027\, ext 1236.
X-ALT-DESC;FMTTYPE=text/html:Weekly orientation schedule for persons who plan to enroll in Adult Education/General Educational Development classes at Southeast Community College\, Beatrice Campus:<br />\n<br />\nTuesday\, January 9\, 11\, 18 and 25<br />\n9 a.m.<br />\n<br />\nAnnual registration fee of $20 required.&nbsp\; Limited space available.&nbsp\; To register\, call AE office at SCC at 228-8236 or 800-233-5027\, ext 1236.
LOCATION:
UID:e.41.2929
SEQUENCE:3
DTSTAMP:20260425T003709Z
URL:https://business.beatricechamber.com/events/details/scc-adult-education-orientation-01-04-2011-2929
END:VEVENT

END:VCALENDAR
