BEGIN:VCALENDAR
VERSION:2.0
PRODID:-//ChamberMaster//Event Calendar 2.0//EN
METHOD:PUBLISH
X-PUBLISHED-TTL:P3D
REFRESH-INTERVAL:P3D
CALSCALE:GREGORIAN
BEGIN:VEVENT
DTSTART;VALUE=DATE:20100605
DTEND;VALUE=DATE:20100606
TRANSP:TRANSPARENT
X-MICROSOFT-CDO-ALLDAYEVENT:TRUE
SUMMARY:SCC Multi-Campus Choir Concert
DESCRIPTION:Southeast Community CollegeMulti-Campus Choir  Free Concert7 p.m. Truman CenterBeatrice\, Campus Public is invited to attend.  Guest conductor for the evening is Dr. Jon Gruett\, director of choirs at Lincoln High School in Lincoln.
X-ALT-DESC;FMTTYPE=text/html:<div><span style="font-size: small">Southeast Community College</span></div><div><span style="font-size: small">Multi-Campus Choir </span></div><div>&nbsp\;</div><div><span style="font-size: small">Free Concert</span></div><div><span style="font-size: small">7 p.m.</span></div><div>&nbsp\;</div><div><span style="font-size: small">Truman Center</span></div><div><span style="font-size: small">Beatrice\, Campus</span></div><div>&nbsp\;</div><div><span style="font-size: small">Public is invited to attend.&nbsp\; Guest conductor for the evening is Dr. Jon Gruett\, director of choirs at Lincoln High School in Lincoln.</span></div>
LOCATION:
UID:e.41.2021
SEQUENCE:3
DTSTAMP:20260425T105331Z
URL:https://business.beatricechamber.com/events/details/scc-multi-campus-choir-concert-06-05-2010-2021
END:VEVENT

END:VCALENDAR
