BEGIN:VCALENDAR
VERSION:2.0
PRODID:-//ChamberMaster//Event Calendar 2.0//EN
METHOD:PUBLISH
X-PUBLISHED-TTL:P3D
REFRESH-INTERVAL:P3D
CALSCALE:GREGORIAN
BEGIN:VEVENT
DTSTART;VALUE=DATE:20100309
DTEND;VALUE=DATE:20100310
TRANSP:TRANSPARENT
X-MICROSOFT-CDO-ALLDAYEVENT:TRUE
SUMMARY:SCC offers Orientation for ABE/GED classes
DESCRIPTION:Adult Basic Education (ABE) /General Education Development (GED)Weekly Orientation schedule classes offered:  Southeast Community CollegeBeatrice Campus Sessions are schedule for 9 a.m. Tuesday March 9\, 16\, 23\, 30 For more information about enrolling in class\, being an ABE volunteer tutor or to arrange a program about ABE for your club or organization\, contact the ABE office at SCC's Beatrice Campus at 228-8236 or 800-233-5027\, ext. 1236.
X-ALT-DESC;FMTTYPE=text/html:<div><span style="font-size: small">Adult Basic Education (ABE) /General Education Development (GED)</span></div><div><span style="font-size: small">Weekly Orientation schedule classes offered:&nbsp\; </span></div><div><span style="font-size: small">Southeast Community College</span></div><div><span style="font-size: small">Beatrice Campus</span></div><div>&nbsp\;</div><div><span style="font-size: small">Sessions are schedule for 9 a.m. </span></div><div><span style="font-size: small">Tuesday March 9\, 16\, 23\, 30</span></div><div>&nbsp\;</div><div><span style="font-size: small">For more information about enrolling in class\, being an ABE volunteer tutor or to arrange a program about ABE for your club or organization\, contact the ABE office at SCC's Beatrice Campus at 228-8236 or 800-233-5027\, ext. 1236.</span></div>
LOCATION:
UID:e.41.1675
SEQUENCE:3
DTSTAMP:20260425T153506Z
URL:https://business.beatricechamber.com/events/details/scc-offers-orientation-for-abe-ged-classes-03-09-2010-1675
END:VEVENT

END:VCALENDAR
