BEGIN:VCALENDAR
VERSION:2.0
PRODID:-//ChamberMaster//Event Calendar 2.0//EN
METHOD:PUBLISH
X-PUBLISHED-TTL:P3D
REFRESH-INTERVAL:P3D
CALSCALE:GREGORIAN
BEGIN:VEVENT
DTSTART;VALUE=DATE:20111106
DTEND;VALUE=DATE:20111107
TRANSP:TRANSPARENT
X-MICROSOFT-CDO-ALLDAYEVENT:TRUE
SUMMARY:SCC Open House
DESCRIPTION:Southeast Community College's All College Open House\n\n\n\nSunday\, November 6\n\n11 am - 4 pm\n\nAll locations:  Beatrice\, Milford\, Lincoln\n\n\n\nProspective students and their families will have the opportunity to tour programs of interest\, talk to faculty and students and see hands-on demonstrations\, all intended to help them make an informed decision about college.  Also an opportunity to register for scholarships and get more information on housing\, student activities\, intercollegiate athletics\, and financial aide.\n\n\n\nFor more information\, visit www.southeast.edu
X-ALT-DESC;FMTTYPE=text/html:Southeast Community College&#39\;s All College Open House<br />\n<br />\nSunday\, November 6<br />\n11 am - 4 pm<br />\nAll locations:&nbsp\; Beatrice\, Milford\, Lincoln<br />\n<br />\nProspective students and their families will have the opportunity to tour programs of interest\, talk to faculty and students and see hands-on demonstrations\, all intended to help them make an informed decision about college.&nbsp\; Also an opportunity to register for scholarships and get more information on housing\, student activities\, intercollegiate athletics\, and financial aide.<br />\n<br />\nFor more information\, visit <a href="http://www.southeast.edu">www.southeast.edu</a><br />\n<br />\n
LOCATION:
UID:e.41.5204
SEQUENCE:3
DTSTAMP:20260424T105345Z
URL:https://business.beatricechamber.com/events/details/scc-open-house-11-06-2011-5204
END:VEVENT

END:VCALENDAR
