BEGIN:VCALENDAR
VERSION:2.0
PRODID:-//ChamberMaster//Event Calendar 2.0//EN
METHOD:PUBLISH
X-PUBLISHED-TTL:P3D
REFRESH-INTERVAL:P3D
CALSCALE:GREGORIAN
BEGIN:VEVENT
DTSTART:20090910T000000Z
DTEND:20090910T020000Z
X-MICROSOFT-CDO-ALLDAYEVENT:FALSE
SUMMARY:SCC VB vs. Central (High School Night)
DESCRIPTION:
X-ALT-DESC;FMTTYPE=text/html:
LOCATION:
UID:e.41.1412
SEQUENCE:3
DTSTAMP:20260425T234908Z
URL:https://business.beatricechamber.com/events/details/scc-vb-vs-central-high-school-night-09-09-2009-1412
END:VEVENT

END:VCALENDAR
