BEGIN:VCALENDAR
VERSION:2.0
PRODID:-//ChamberMaster//Event Calendar 2.0//EN
METHOD:PUBLISH
X-PUBLISHED-TTL:P3D
REFRESH-INTERVAL:P3D
CALSCALE:GREGORIAN
BEGIN:VEVENT
DTSTART:20090925T233000Z
DTEND:20090926T010000Z
X-MICROSOFT-CDO-ALLDAYEVENT:FALSE
SUMMARY:SCC VB vs. KCKCC - Alumni NIght
DESCRIPTION:
X-ALT-DESC;FMTTYPE=text/html:
LOCATION:
UID:e.41.1416
SEQUENCE:3
DTSTAMP:20260425T233141Z
URL:https://business.beatricechamber.com/events/details/scc-vb-vs-kckcc-alumni-night-09-25-2009-1416
END:VEVENT

END:VCALENDAR
