BEGIN:VCALENDAR
VERSION:2.0
PRODID:-//ChamberMaster//Event Calendar 2.0//EN
METHOD:PUBLISH
X-PUBLISHED-TTL:P3D
REFRESH-INTERVAL:P3D
CALSCALE:GREGORIAN
BEGIN:VEVENT
DTSTART:20090924T220000Z
DTEND:20090925T000000Z
X-MICROSOFT-CDO-ALLDAYEVENT:FALSE
SUMMARY:SCC VB vs North Platte
DESCRIPTION:
X-ALT-DESC;FMTTYPE=text/html:
LOCATION:
UID:e.41.1415
SEQUENCE:3
DTSTAMP:20260425T233712Z
URL:https://business.beatricechamber.com/events/details/scc-vb-vs-north-platte-09-24-2009-1415
END:VEVENT

END:VCALENDAR
