BEGIN:VCALENDAR
VERSION:2.0
PRODID:-//ChamberMaster//Event Calendar 2.0//EN
METHOD:PUBLISH
X-PUBLISHED-TTL:P3D
REFRESH-INTERVAL:P3D
CALSCALE:GREGORIAN
BEGIN:VEVENT
DTSTART:20090918T230000Z
DTEND:20090919T010000Z
X-MICROSOFT-CDO-ALLDAYEVENT:FALSE
SUMMARY:SCC VB vs. SWCC - Rodeo Night - MIss Rodeo NE
DESCRIPTION:
X-ALT-DESC;FMTTYPE=text/html:
LOCATION:
UID:e.41.1413
SEQUENCE:3
DTSTAMP:20260425T234047Z
URL:https://business.beatricechamber.com/events/details/scc-vb-vs-swcc-rodeo-night-miss-rodeo-ne-09-18-2009-1413
END:VEVENT

END:VCALENDAR
