BEGIN:VCALENDAR
VERSION:2.0
PRODID:-//ChamberMaster//Event Calendar 2.0//EN
METHOD:PUBLISH
X-PUBLISHED-TTL:P3D
REFRESH-INTERVAL:P3D
CALSCALE:GREGORIAN
BEGIN:VEVENT
DTSTART:20091001T230000Z
DTEND:20091002T010000Z
X-MICROSOFT-CDO-ALLDAYEVENT:FALSE
SUMMARY:SCC VB vs. Union - Pink Night
DESCRIPTION:
X-ALT-DESC;FMTTYPE=text/html:
LOCATION:
UID:e.41.1417
SEQUENCE:3
DTSTAMP:20260425T221329Z
URL:https://business.beatricechamber.com/events/details/scc-vb-vs-union-pink-night-10-01-2009-1417
END:VEVENT

END:VCALENDAR
