BEGIN:VCALENDAR
VERSION:2.0
PRODID:-//ChamberMaster//Event Calendar 2.0//EN
METHOD:PUBLISH
X-PUBLISHED-TTL:P3D
REFRESH-INTERVAL:P3D
CALSCALE:GREGORIAN
BEGIN:VEVENT
DTSTART;VALUE=DATE:20110430
DTEND;VALUE=DATE:20110501
TRANSP:TRANSPARENT
X-MICROSOFT-CDO-ALLDAYEVENT:TRUE
SUMMARY:Scholastic banquet
DESCRIPTION:The BHS Student Council and the Board of Education will be hosting the 2011 Scholastic Achievement Banquet April 30 at 6 p.m. in the commons and Hevelone Center of Beatrice High School.\n\n\n\nTickets will go on sale in the high school office Monday and will remain on sale through April 15.\n\nThe price is $12 for either a baked chicken breast or windsor loin meal.
X-ALT-DESC;FMTTYPE=text/html:The BHS Student Council and the Board of Education will be hosting the 2011 Scholastic Achievement Banquet <strong>April 30 at 6 p.m</strong>. in the commons and Hevelone Center of Beatrice High School.<br />\n<br />\nTickets will go on sale in the high school office Monday and will remain on sale through April 15.<br />\nThe price is $12 for either a baked chicken breast or windsor loin meal.
LOCATION:
UID:e.41.4555
SEQUENCE:3
DTSTAMP:20260424T194942Z
URL:https://business.beatricechamber.com/events/details/scholastic-banquet-04-30-2011-4555
END:VEVENT

END:VCALENDAR
