BEGIN:VCALENDAR
VERSION:2.0
PRODID:-//ChamberMaster//Event Calendar 2.0//EN
METHOD:PUBLISH
X-PUBLISHED-TTL:P3D
REFRESH-INTERVAL:P3D
CALSCALE:GREGORIAN
BEGIN:VEVENT
DTSTART:20120923T190000Z
DTEND:20120923T190000Z
X-MICROSOFT-CDO-ALLDAYEVENT:FALSE
SUMMARY:'Science Guy' coming to Homestead
DESCRIPTION:Bill Nye\, "The Science Guy"\, is coming to Homestead National Monument of America. Everyone is invited to learn fun and amazing lessons about living sustainably on planet Earth. This program will be held outdoors. A large crowd is anticipated so people are encouraged to bring their own lawn chairs.
X-ALT-DESC;FMTTYPE=text/html:Bill Nye\, &quot\;The Science Guy&quot\;\, is coming to Homestead National Monument of America. Everyone is invited to learn fun and amazing lessons about living sustainably on planet Earth. This program will be held outdoors. A large crowd is anticipated so people are encouraged to bring their own lawn chairs.
LOCATION:Homestead National Monument of America Education Center
UID:e.41.6647
SEQUENCE:3
DTSTAMP:20260422T090955Z
URL:https://business.beatricechamber.com/events/details/science-guy-coming-to-homestead-09-23-2012-6647
END:VEVENT

END:VCALENDAR
