BEGIN:VCALENDAR
VERSION:2.0
PRODID:-//ChamberMaster//Event Calendar 2.0//EN
METHOD:PUBLISH
X-PUBLISHED-TTL:P3D
REFRESH-INTERVAL:P3D
CALSCALE:GREGORIAN
BEGIN:VEVENT
DTSTART:20100505T123000Z
DTEND:20100505T133000Z
X-MICROSOFT-CDO-ALLDAYEVENT:FALSE
SUMMARY:Scout C.A.M.P. Fundraising Breakfast 5/5/10
DESCRIPTION:"Scout C.A.M.P." Free Fundraising Breakfast Wednesday\, May 5\, 20107:30 - 8:30 a.m. Eagles Club111 S. 8th St.Beatrice\, NE  68310 Funds generated through this effort will help the Cornhusker Council expand our work in the community and help teach boys\, young men and young women of today how to be the leaders of tomorrow. Boy Scouts of AmericaCornhusker Council
X-ALT-DESC;FMTTYPE=text/html:<div>&quot\;Scout C.A.M.P.&quot\; Free Fundraising Breakfast</div><div>&nbsp\;</div><div>Wednesday\, May 5\, 2010</div><div>7:30 - 8:30 a.m.</div><div>&nbsp\;</div><div>Eagles Club</div><div>111 S. 8th St.</div><div>Beatrice\, NE&nbsp\; 68310</div><div>&nbsp\;</div><div>Funds generated through this effort will help the Cornhusker Council expand our work in the community and help teach boys\, young men and young women of today how to be the leaders of tomorrow.</div><div>&nbsp\;</div><div>Boy Scouts of America</div><div>Cornhusker Council</div>
LOCATION:
UID:e.41.1930
SEQUENCE:3
DTSTAMP:20260425T122754Z
URL:https://business.beatricechamber.com/events/details/scout-c-a-m-p-fundraising-breakfast-5-5-10-05-05-2010-1930
END:VEVENT

END:VCALENDAR
