BEGIN:VCALENDAR
VERSION:2.0
PRODID:-//ChamberMaster//Event Calendar 2.0//EN
METHOD:PUBLISH
X-PUBLISHED-TTL:P3D
REFRESH-INTERVAL:P3D
CALSCALE:GREGORIAN
BEGIN:VEVENT
DTSTART:20111018T000000Z
DTEND:20111018T020000Z
X-MICROSOFT-CDO-ALLDAYEVENT:FALSE
SUMMARY:SCRUBBED INTO FASHION
DESCRIPTION:Join us for a fun filled night as Uniform Connection Presents the Latest in Medical Fashion\n\n	Homestead House 2300 Lincoln Street\n\n	Beatrice\, Nebraska\n\n	s Browse the Night Away s Door Prizes s Hors D'oeuvres s\n\n	s View the Latest Fashions as the Models Walk the Runway s\n\n	s Meet the Uniform Connection Crew s
X-ALT-DESC;FMTTYPE=text/html:<p align="center" class="MsoNormal" style="margin: 15pt 0in 0pt\; text-align: center\; mso-pagination: none">\n	<span lang="EN" style="font-size: 40pt\; font-family: 'baskerville old face'\; mso-ansi-language: en"><font color="#000000"><span lang="EN" style="font-size: 40pt\; font-family: 'baskerville old face'\; mso-ansi-language: en"><span lang="EN" style="font-size: 25pt\; font-family: arial\; mso-ansi-language: en">Join us for a fun filled night as Uniform Connection Presents the Latest in Medical Fashion<o:p></o:p></span></span></font></span></p>\n<p align="center" class="MsoNormal" style="margin: 15pt 0in 0pt\; text-align: center\; mso-pagination: none">\n	<span lang="EN" style="font-size: 40pt\; font-family: 'baskerville old face'\; mso-ansi-language: en"><font color="#000000"><span lang="EN" style="font-size: 40pt\; font-family: 'baskerville old face'\; mso-ansi-language: en"><st1:city w:st="on"><st1:place w:st="on"><span lang="EN" style="font-size: 20pt\; font-family: arial\; mso-ansi-language: en">Homestead</span></st1:place></st1:city><span lang="EN" style="font-size: 20pt\; font-family: arial\; mso-ansi-language: en"> House <st1:street w:st="on"><st1:address w:st="on">2300 Lincoln Street</st1:address></st1:street><o:p></o:p></span></span></font></span></p>\n<p align="center" class="MsoNormal" style="margin: 5pt 0in 0pt\; text-align: center\; mso-pagination: none">\n	<span lang="EN" style="font-size: 40pt\; font-family: 'baskerville old face'\; mso-ansi-language: en"><font color="#000000"><span lang="EN" style="font-size: 40pt\; font-family: 'baskerville old face'\; mso-ansi-language: en"><st1:place w:st="on"><st1:city w:st="on"><span lang="EN" style="font-size: 20pt\; font-family: arial\; mso-ansi-language: en">Beatrice</span></st1:city><span lang="EN" style="font-size: 20pt\; font-family: arial\; mso-ansi-language: en">\, <st1:state w:st="on">Nebraska</st1:state></span></st1:place><span lang="EN" style="font-size: 20pt\; font-family: arial\; mso-ansi-language: en"><o:p></o:p></span></span></font></span></p>\n<p align="center" class="MsoNormal" style="margin: 0in 0in 0pt\; text-align: center\; mso-pagination: none">\n	<span lang="EN" style="font-size: 40pt\; font-family: 'baskerville old face'\; mso-ansi-language: en"><font color="#000000"><span lang="EN" style="font-size: 40pt\; font-family: 'baskerville old face'\; mso-ansi-language: en"><span lang="EN" style="font-size: 15pt\; font-family: wingdings\; mso-ansi-language: en">s</span><span lang="EN" style="font-size: 15pt\; mso-ansi-language: en"><font face="Times New Roman"> Browse the Night Away </font></span><span lang="EN" style="font-size: 15pt\; font-family: wingdings\; mso-ansi-language: en">s</span><span lang="EN" style="font-size: 15pt\; mso-ansi-language: en"><font face="Times New Roman"> Door Prizes </font></span><span lang="EN" style="font-size: 15pt\; font-family: wingdings\; mso-ansi-language: en">s</span><span lang="EN" style="font-size: 15pt\; mso-ansi-language: en"><font face="Times New Roman"> Hors D&#39\;oeuvres </font></span><span lang="EN" style="font-size: 15pt\; font-family: wingdings\; mso-ansi-language: en">s</span><br />\n	<span lang="EN" style="font-size: 15pt\; font-family: wingdings\; mso-ansi-language: en">s</span><span lang="EN" style="font-size: 15pt\; mso-ansi-language: en"><font face="Times New Roman"> View the Latest Fashions as the Models Walk the Runway </font></span><span lang="EN" style="font-size: 15pt\; font-family: wingdings\; mso-ansi-language: en">s</span><br />\n	<span lang="EN" style="font-size: 15pt\; font-family: wingdings\; mso-ansi-language: en">s</span><span lang="EN" style="font-size: 15pt\; mso-ansi-language: en"><font face="Times New Roman"> Meet the Uniform Connection Crew </font></span><span lang="EN" style="font-size: 15pt\; font-family: wingdings\; mso-ansi-language: en">s</span></span></font></span></p>\n
LOCATION:Homestead House
UID:e.41.5185
SEQUENCE:3
DTSTAMP:20260424T111311Z
URL:https://business.beatricechamber.com/events/details/scrubbed-into-fashion-10-17-2011-5185
END:VEVENT

END:VCALENDAR
