BEGIN:VCALENDAR
VERSION:2.0
PRODID:-//ChamberMaster//Event Calendar 2.0//EN
METHOD:PUBLISH
X-PUBLISHED-TTL:P3D
REFRESH-INTERVAL:P3D
CALSCALE:GREGORIAN
BEGIN:VEVENT
DTSTART:20090919T150000Z
DTEND:20090919T210000Z
X-MICROSOFT-CDO-ALLDAYEVENT:FALSE
SUMMARY:Sculpture Class by Lucky Stradley
DESCRIPTION:Sign up for Lucky Stradley's sculpture classA fun day sculpting your own humorous and loveable "church lady". held on Saturday\, September 19th10 am - 4 pmCost is $30\, Materials are provided. Questions: call Marilynn 806-1226
X-ALT-DESC;FMTTYPE=text/html:<div>Sign up for Lucky Stradley's sculpture class</div><div>A fun day sculpting your own humorous and loveable &quot\;church lady&quot\;.</div><div>&nbsp\;</div><div>held on Saturday\, September 19th</div><div>10 am - 4 pm</div><div>Cost is $30\, Materials are provided.</div><div>&nbsp\;</div><div>Questions:&nbsp\;call Marilynn 806-1226</div>
LOCATION:
UID:e.41.1428
SEQUENCE:3
DTSTAMP:20260425T233233Z
URL:https://business.beatricechamber.com/events/details/sculpture-class-by-lucky-stradley-09-19-2009-1428
END:VEVENT

END:VCALENDAR
