BEGIN:VCALENDAR
VERSION:2.0
PRODID:-//ChamberMaster//Event Calendar 2.0//EN
METHOD:PUBLISH
X-PUBLISHED-TTL:P3D
REFRESH-INTERVAL:P3D
CALSCALE:GREGORIAN
BEGIN:VEVENT
DTSTART:20090731T000000Z
DTEND:20090731T020000Z
X-MICROSOFT-CDO-ALLDAYEVENT:FALSE
SUMMARY:SDAT Public Meeting
DESCRIPTION:The City of Beatrice is one of only 10 cities in the country in 2009 to be awarded a\ngrant for assistance from the American Institute of Architects\, Sustainable Design\nAssessment Team (SDAT). The team consists of nationally recognized\nprofessionals in the fields of economics\, Community planning\, downtown\nredevelopment\, Green design\, watershed management and riverfront design. This\nmultidiscipline group of professionals is donating their time to assist the\ncommunity in developing a sustainable vision for the future and recommend a\npath to achieve the vision. This is a once in a life time opportunity! The more citizens that take part in the process thebetter the outcome. Everything done by the SDAT Team is open to the public. Be a part of the future of Beatrice and join us\non July 30th\, 2009 at 7:00 pm at the Holiday Inn Express
X-ALT-DESC;FMTTYPE=text/html:<div>The City of Beatrice is one of only 10 cities in the country in 2009 to be awarded a<br />grant for assistance from the American Institute of Architects\, Sustainable Design<br />Assessment Team (SDAT). The team consists of nationally recognized<br />professionals in the fields of economics\, Community planning\, downtown<br />redevelopment\, Green design\, watershed management and riverfront design. This<br />multidiscipline group of professionals is donating their time to assist the<br />community in developing a sustainable vision for the future and recommend a<br />path to achieve the vision.</div><div>&nbsp\;</div><div>This is a once in a life time opportunity!&nbsp\;The more citizens that take part in the process the</div><div>better the outcome. Everything done by the SDAT Team is open to the public.</div><div>&nbsp\;Be a part of the future of Beatrice and join us<br />on July 30th\, 2009 at 7:00 pm at the Holiday Inn Express</div><div>&nbsp\;</div><div>&nbsp\;</div>
LOCATION:
UID:e.41.1297
SEQUENCE:3
DTSTAMP:20260426T025804Z
URL:https://business.beatricechamber.com/events/details/sdat-public-meeting-07-30-2009-1297
END:VEVENT

END:VCALENDAR
