BEGIN:VCALENDAR
VERSION:2.0
PRODID:-//ChamberMaster//Event Calendar 2.0//EN
METHOD:PUBLISH
X-PUBLISHED-TTL:P3D
REFRESH-INTERVAL:P3D
CALSCALE:GREGORIAN
BEGIN:VEVENT
DTSTART:20090729T133000Z
DTEND:20090729T153000Z
X-MICROSOFT-CDO-ALLDAYEVENT:FALSE
SUMMARY:SDAT Stakeholder Meeting
DESCRIPTION:Attend the Stakeholder MeetingsJuly 28 at 1 PM & July 29 at 8:30 AMPublic Meetings   July 28 at 7 PMFinal Presentation   July 30 at 7 PMSustainable Design Assessment Team Visit Stakeholder Groups and Leaders: Water Resources/ Big Blue River   Dr. Robert Neville Historic Resources/Preservation Planning   Laura Carstens Planning Connection/Connectivity   Erin Degutis Open Space/Waterfront Planning   Ed Freer Economic Development/Planning   Chuck D'Aprix Downtown Planning/Urban Design   Robert Hermen  Everyone is welcomed to join the Group they are interested in. Schedule: July 28 1:00 PM   Stakeholder Breakout Groups   Assessment 7:00 PM   Public Town Hall Meeting  July 29 8:30 AM   Stakeholder Breakout Groups   Vision 1:00 PM   Stakeholder Breakout Groups   Actions  July 30 7:00 PM   Public Presentation of SDAT Findings & Recommendations  All meetings will be at the Holiday Inn Express For more information call Gary at 228-5227 or visit http://www.beatrice.ne.gov/riverfront/
X-ALT-DESC;FMTTYPE=text/html:<div><b><font size="6"><font size="6"><span style="font-size: small"><p>Attend the Stakeholder Meetings</p><p><p>July 28 at 1 PM &amp\; July 29 at 8:30 AM</p><p>Public Meetings &ndash\; July 28 at 7 PM</p><p>Final Presentation &ndash\; July 30 at 7 PM</p></p><p>Sustainable Design Assessment Team Visit</p></span></font></font></b><b><font size="6"><font size="6"><span style="font-size: small"><p><div style="margin: 0in 0in 0pt">&nbsp\;</div><div style="margin: 0in 0in 0pt"><span style="font-size: small">Stakeholder Groups and Leaders: </span></div><div style="margin: 0in 0in 2.7pt"><span style="font-size: small">Water Resources/ Big Blue River &ndash\; Dr. Robert Neville </span></div><div style="margin: 0in 0in 2.7pt"><span style="font-size: small">Historic Resources/Preservation Planning &ndash\; Laura Carstens </span></div><div style="margin: 0in 0in 2.7pt"><span style="font-size: small">Planning Connection/Connectivity &ndash\; Erin Degutis </span></div><div style="margin: 0in 0in 2.7pt"><span style="font-size: small">Open Space/Waterfront Planning &ndash\; Ed Freer </span></div><div style="margin: 0in 0in 2.7pt"><span style="font-size: small">Economic Development/Planning &ndash\; Chuck D&rsquo\;Aprix </span></div><div style="margin: 0in 0in 0pt"><span style="font-size: small">Downtown Planning/Urban Design &ndash\; Robert Hermen </span></div><div style="margin: 0in 0in 0pt"><span style="font-size: small">&nbsp\;</span></div><div style="margin: 0in 0in 0pt"><span style="font-size: small">Everyone is welcomed to join the Group they are interested in. </span></div><div style="margin: 0in 0in 0pt"><span style="font-size: small">Schedule: </span></div><div style="margin: 0in 0in 0pt"><span style="font-size: small">July 28 </span></div><div style="margin: 0in 0in 2.7pt"><span style="font-size: small">1:00 PM &ndash\; Stakeholder Breakout Groups &ndash\; Assessment </span></div><div style="margin: 0in 0in 0pt"><span style="font-size: small">7:00 PM &ndash\; Public Town Hall Meeting </span></div><div style="margin: 0in 0in 0pt"><span style="font-size: small">&nbsp\;</span></div><div style="margin: 0in 0in 0pt"><span style="font-size: small">July 29 </span></div><div style="margin: 0in 0in 2.6pt"><span style="font-size: small">8:30 AM &ndash\; Stakeholder Breakout Groups &ndash\; Vision </span></div><div style="margin: 0in 0in 0pt"><span style="font-size: small">1:00 PM &ndash\; Stakeholder Breakout Groups &ndash\; Actions </span></div><div style="margin: 0in 0in 0pt"><span style="font-size: small">&nbsp\;</span></div><div style="margin: 0in 0in 0pt"><span style="font-size: small">July 30 </span></div><div style="margin: 0in 0in 0pt"><span style="font-size: small">7:00 PM &ndash\; Public Presentation of SDAT Findings &amp\; Recommendations </span></div><div style="margin: 0in 0in 0pt"><span style="font-size: small">&nbsp\;</span></div><div style="margin: 0in 0in 0pt"><span style="font-size: small">All meetings will be at the Holiday Inn Express </span></div></p><div style="margin: 0in 0in 0pt"><span style="font-size: small">For more information call Gary at 228-5227 </span></div><div style="margin: 0in 0in 0pt"><span style="font-size: small">or visit http://www.beatrice.ne.gov/riverfront/</span></div></span></font></font></b></div>
LOCATION:
UID:e.41.1296
SEQUENCE:3
DTSTAMP:20260426T024839Z
URL:https://business.beatricechamber.com/events/details/sdat-stakeholder-meeting-07-29-2009-1296
END:VEVENT

END:VCALENDAR
