BEGIN:VCALENDAR
VERSION:2.0
PRODID:-//ChamberMaster//Event Calendar 2.0//EN
METHOD:PUBLISH
X-PUBLISHED-TTL:P3D
REFRESH-INTERVAL:P3D
CALSCALE:GREGORIAN
BEGIN:VEVENT
DTSTART:20110615T180000Z
DTEND:20110615T213000Z
X-MICROSOFT-CDO-ALLDAYEVENT:FALSE
SUMMARY:SE Nebraska Community Chapter of National Management Assoc. Workshop
DESCRIPTION:Southeast Nebraska Community Chapter of the National Management Association leadership workshop is from 1-4:30 p.m. at Valentino's Primavera Room\, 701 Court Street\, Beatrice. \n\n\n\nFree to NMA members.  Nonmembers: $25.  Registration due June 10.\n\n\n\nFor more information call Nikki Reisen at 402-223-3875 or 402-450-7221.
X-ALT-DESC;FMTTYPE=text/html:Southeast Nebraska Community Chapter of the National Management Association leadership workshop is from 1-4:30 p.m. at Valentino&#39\;s Primavera Room\, 701 Court Street\, Beatrice.&nbsp\;<br />\n<br />\nFree to NMA members.&nbsp\; Nonmembers: $25.&nbsp\; Registration due June 10.<br />\n<br />\nFor more information call Nikki Reisen at 402-223-3875 or 402-450-7221.
LOCATION:
UID:e.41.4880
SEQUENCE:3
DTSTAMP:20260424T165855Z
URL:https://business.beatricechamber.com/events/details/se-nebraska-community-chapter-of-national-management-assoc-workshop-06-15-2011-4880
END:VEVENT

END:VCALENDAR
