BEGIN:VCALENDAR
VERSION:2.0
PRODID:-//ChamberMaster//Event Calendar 2.0//EN
METHOD:PUBLISH
X-PUBLISHED-TTL:P3D
REFRESH-INTERVAL:P3D
CALSCALE:GREGORIAN
BEGIN:VEVENT
DTSTART:20101211T140000Z
DTEND:20101211T180000Z
X-MICROSOFT-CDO-ALLDAYEVENT:FALSE
SUMMARY:Security First Bank Holiday Open House
DESCRIPTION:Holiday Open House:\n\n\n\nFirst Security Bank Clatonia- 8am-12 pm\n\n\n\nRefreshments Provided!
X-ALT-DESC;FMTTYPE=text/html:<strong>Holiday Open House:<br />\n<br />\nFirst Security Bank Clatonia- 8am-12 pm<br />\n<br />\nRefreshments Provided!</strong><br />\n
LOCATION:
UID:e.41.2909
SEQUENCE:3
DTSTAMP:20260425T020018Z
URL:https://business.beatricechamber.com/events/details/security-first-bank-holiday-open-house-12-11-2010-2909
END:VEVENT

END:VCALENDAR
