BEGIN:VCALENDAR
VERSION:2.0
PRODID:-//ChamberMaster//Event Calendar 2.0//EN
METHOD:PUBLISH
X-PUBLISHED-TTL:P3D
REFRESH-INTERVAL:P3D
CALSCALE:GREGORIAN
BEGIN:VEVENT
DTSTART;VALUE=DATE:20101217
DTEND;VALUE=DATE:20101218
TRANSP:TRANSPARENT
X-MICROSOFT-CDO-ALLDAYEVENT:TRUE
SUMMARY:Security First Bank Holiday Open House
DESCRIPTION:Security First Bank Holiday Open House:\n\n\n\nBeatrice Main: 8am-4pm\n\nBeatrice North: 8am-4pm\n\nBeatrice Villa: 10am-2pm\n\nBlue Springs: 8am-4pm\n\nCortland:9am-4pm\n\n\n\nRefreshments Provided!
X-ALT-DESC;FMTTYPE=text/html:<strong>Security First Bank Holiday Open House:<br />\n<br />\nBeatrice Main: 8am-4pm<br />\nBeatrice North: 8am-4pm<br />\nBeatrice Villa: 10am-2pm<br />\nBlue Springs: 8am-4pm<br />\nCortland:9am-4pm<br />\n<br />\nRefreshments Provided!</strong><br />\n
LOCATION:
UID:e.41.2910
SEQUENCE:3
DTSTAMP:20260425T014257Z
URL:https://business.beatricechamber.com/events/details/security-first-bank-holiday-open-house-12-17-2010-2910
END:VEVENT

END:VCALENDAR
