BEGIN:VCALENDAR
VERSION:2.0
PRODID:-//ChamberMaster//Event Calendar 2.0//EN
METHOD:PUBLISH
X-PUBLISHED-TTL:P3D
REFRESH-INTERVAL:P3D
CALSCALE:GREGORIAN
BEGIN:VEVENT
DTSTART:20101220T160000Z
DTEND:20101220T200000Z
X-MICROSOFT-CDO-ALLDAYEVENT:FALSE
SUMMARY:Security First Bank Holiday Open House
DESCRIPTION:Security First Bank Holiday Open House:\n\n\n\nMartell: 10am-2pm\n\n\n\nRefreshments Provided!
X-ALT-DESC;FMTTYPE=text/html:<strong>Security First Bank Holiday Open House:<br />\n<br />\nMartell: 10am-2pm<br />\n<br />\nRefreshments Provided!</strong><br />\n
LOCATION:
UID:e.41.2911
SEQUENCE:3
DTSTAMP:20260425T014206Z
URL:https://business.beatricechamber.com/events/details/security-first-bank-holiday-open-house-12-20-2010-2911
END:VEVENT

END:VCALENDAR
