BEGIN:VCALENDAR
VERSION:2.0
PRODID:-//ChamberMaster//Event Calendar 2.0//EN
METHOD:PUBLISH
X-PUBLISHED-TTL:P3D
REFRESH-INTERVAL:P3D
CALSCALE:GREGORIAN
BEGIN:VEVENT
DTSTART:20090923T124500Z
DTEND:20090924T011500Z
X-MICROSOFT-CDO-ALLDAYEVENT:FALSE
SUMMARY:See You at The Pole
DESCRIPTION:Students around the nation are invited to participate in"See You at The Pole" at 7:45 am Wednesday The theme for this year's is "Engage" based on2 Kings 22:13.  See you at the pole is about youth coming together and laying aside all of the labels and groups for one day\, to engage with God in prayer and connect with fellow Christians in unity around the flagpole.
X-ALT-DESC;FMTTYPE=text/html:<div>Students around the nation are invited to participate in</div><div>&quot\;See You at The Pole&quot\; at 7:45 am Wednesday</div><div>&nbsp\;</div><div>The theme for this year's is &quot\;Engage&quot\; based on</div><div>2 Kings 22:13.&nbsp\; See you at the pole is about youth coming together and laying aside all of the labels and groups for one day\, to engage with God in prayer and connect with fellow Christians in unity around the flagpole.&nbsp\;</div>
LOCATION:
UID:e.41.1453
SEQUENCE:3
DTSTAMP:20260425T233340Z
URL:https://business.beatricechamber.com/events/details/see-you-at-the-pole-09-23-2009-1453
END:VEVENT

END:VCALENDAR
