BEGIN:VCALENDAR
VERSION:2.0
PRODID:-//ChamberMaster//Event Calendar 2.0//EN
METHOD:PUBLISH
X-PUBLISHED-TTL:P3D
REFRESH-INTERVAL:P3D
CALSCALE:GREGORIAN
BEGIN:VEVENT
DTSTART:20120821T140000Z
DTEND:20120821T160000Z
X-MICROSOFT-CDO-ALLDAYEVENT:FALSE
SUMMARY:Senior Citizens Day Senior Fair
DESCRIPTION:Dr. Crandall & Beatrice Family Chiropractic is sponsoring an event for area seniors.  Several local vendors.  Call 402-228-2777 for more details.
X-ALT-DESC;FMTTYPE=text/html:Dr. Crandall &amp\; Beatrice Family Chiropractic is sponsoring an event for area seniors.&nbsp\; Several local vendors.&nbsp\; Call 402-228-2777 for more details.
LOCATION:Beatrice YMCA
UID:e.41.6592
SEQUENCE:3
DTSTAMP:20260422T100645Z
URL:https://business.beatricechamber.com/events/details/senior-citizens-day-senior-fair-08-21-2012-6592
END:VEVENT

END:VCALENDAR
