BEGIN:VCALENDAR
VERSION:2.0
PRODID:-//ChamberMaster//Event Calendar 2.0//EN
METHOD:PUBLISH
X-PUBLISHED-TTL:P3D
REFRESH-INTERVAL:P3D
CALSCALE:GREGORIAN
BEGIN:VEVENT
DTSTART;VALUE=DATE:20091005
DTEND;VALUE=DATE:20091006
TRANSP:TRANSPARENT
X-MICROSOFT-CDO-ALLDAYEVENT:TRUE
SUMMARY:Senior Lifestyle Fair
DESCRIPTION:Plan to attend the 2009 Senior Lifestyle Fair\, sponsored by the Beatrice Daily Sun. A variety of vendors will be on hand to showcase business and services that cater to quality senior living.Entertainment will also be provided for a fun day you're not soon to forget. Monday\, October 5th from 10:00a.m. - 5:30p.m. at Indian Creek Mall. Flu shotsBlood Pressure checkand much more
X-ALT-DESC;FMTTYPE=text/html:<div><div><span class="457550419-31072009"><font face="Arial" size="2">Plan to attend the 2009 Senior Lifestyle Fair\, sponsored by the Beatrice Daily Sun. A variety of vendors will be on hand to showcase business and services that cater to quality senior living.</font></span></div><div><span class="457550419-31072009"><font face="Arial" size="2">Entertainment will also be provided for a fun day you&rsquo\;re not soon to forget.</font></span></div><div><span class="457550419-31072009"><font face="Arial" size="2"><div>&nbsp\;</div><div><span class="457550419-31072009"><font face="Arial" size="2">Monday\, October 5th </font></span></div><div><span class="457550419-31072009"><font face="Arial" size="2">from 10:00a.m. - 5:30p.m. </font></span></div><div><span class="457550419-31072009"><font face="Arial" size="2">at Indian Creek Mall.</font></span></div><div>&nbsp\;</div><div><span class="457550419-31072009"><font face="Arial" size="2">Flu shots</font></span></div><div><span class="457550419-31072009"><font face="Arial" size="2">Blood Pressure check</font></span></div><div><span class="457550419-31072009"><font face="Arial" size="2">and much more</font></span></div></font></span></div></div>
LOCATION:
UID:e.41.1353
SEQUENCE:3
DTSTAMP:20260425T221709Z
URL:https://business.beatricechamber.com/events/details/senior-lifestyle-fair-10-05-2009-1353
END:VEVENT

END:VCALENDAR
