BEGIN:VCALENDAR
VERSION:2.0
PRODID:-//ChamberMaster//Event Calendar 2.0//EN
METHOD:PUBLISH
X-PUBLISHED-TTL:P3D
REFRESH-INTERVAL:P3D
CALSCALE:GREGORIAN
BEGIN:VEVENT
DTSTART:20090913T160000Z
DTEND:20090913T200000Z
X-MICROSOFT-CDO-ALLDAYEVENT:FALSE
SUMMARY:Septemberfest at St Joseph Catholic Church
DESCRIPTION:Join in the fun at Septemberfest at St Joseph Catholic Church6th & High StreetSunday\, September 13th11:00 am - 3:00 pm Raffle - Carnival - Country StoreBill's BBQ chickenham\, baked potato\, corn\, coleslaw\, dinner roll & pieAdults:  Advanced $7 At door $8Children (K-12): Advanced $4 At door $5Family (2 adults & 3+ kids): $30Preschool: Eat Free!
X-ALT-DESC;FMTTYPE=text/html:<div>Join in the fun at Septemberfest at St Joseph Catholic Church</div><div>6th&nbsp\;&amp\;&nbsp\;High Street</div><div>Sunday\, September 13th</div><div>11:00 am - 3:00 pm</div><div>&nbsp\;</div><div>Raffle -&nbsp\;Carnival - Country Store</div><div>Bill's BBQ chicken</div><div>ham\, baked potato\, corn\, coleslaw\, dinner roll &amp\; pie</div><div>Adults:&nbsp\; Advanced $7 At door $8</div><div>Children (K-12): Advanced $4 At door $5</div><div>Family (2 adults &amp\; 3+ kids): $30</div><div>Preschool: Eat Free!</div>
LOCATION:
UID:e.41.1426
SEQUENCE:3
DTSTAMP:20260425T234134Z
URL:https://business.beatricechamber.com/events/details/septemberfest-at-st-joseph-catholic-church-09-13-2009-1426
END:VEVENT

END:VCALENDAR
