BEGIN:VCALENDAR
VERSION:2.0
PRODID:-//ChamberMaster//Event Calendar 2.0//EN
METHOD:PUBLISH
X-PUBLISHED-TTL:P3D
REFRESH-INTERVAL:P3D
CALSCALE:GREGORIAN
BEGIN:VEVENT
DTSTART:20110911T160000Z
DTEND:20110911T190000Z
X-MICROSOFT-CDO-ALLDAYEVENT:FALSE
SUMMARY:Septemberfest at St. Joseph Church
DESCRIPTION:Septemberfest\n\nSt. Joseph Church\, 6th & High Streets\n\nBeatrice\, NE\n\n\n\n11 am - 2 pm\n\nSunday\, September 11\n\n\n\n"A la" Playa Azul restaurant\, enjoy enchiladas\, tamales\, beans\, rice\, chips and salsa.  Adult meals are $6 in advance or $7 at the door.  Children's meals\, ages 5-12\, are $3 in advance and at the door.  Preschoolers eat free.\n\n\n\nThe event also features a gift basket raffle and Kids Karaoke with Kelly.  Music will be provided by Blue Skies Jazz Quartet. \n\n\n\nIn addition\, there will be a prayerful tribute in observance of the 10-year anniversary of the 9-11 tragedy.
X-ALT-DESC;FMTTYPE=text/html:<strong><span style="font-size: 14px">Septemberfest</span></strong><br />\nSt. Joseph Church\, 6th &amp\; High Streets<br />\nBeatrice\, NE<br />\n<br />\n11 am - 2 pm<br />\nSunday\, September 11<br />\n<br />\n&quot\;A la&quot\; Playa Azul restaurant\, enjoy enchiladas\, tamales\, beans\, rice\, chips and salsa.&nbsp\; Adult meals are $6 in advance or $7 at the door.&nbsp\; Children&#39\;s meals\, ages 5-12\, are $3 in advance and at the door.&nbsp\; Preschoolers eat free.<br />\n<br />\nThe event also features a gift basket raffle and Kids Karaoke with Kelly.&nbsp\; Music will be provided by Blue Skies Jazz Quartet.&nbsp\;<br />\n<br />\nIn addition\, there will be a prayerful tribute in observance of the 10-year anniversary of the 9-11 tragedy.
LOCATION:
UID:e.41.5094
SEQUENCE:3
DTSTAMP:20260424T123324Z
URL:https://business.beatricechamber.com/events/details/septemberfest-at-st-joseph-church-09-11-2011-5094
END:VEVENT

END:VCALENDAR
