BEGIN:VCALENDAR
VERSION:2.0
PRODID:-//ChamberMaster//Event Calendar 2.0//EN
METHOD:PUBLISH
X-PUBLISHED-TTL:P3D
REFRESH-INTERVAL:P3D
CALSCALE:GREGORIAN
BEGIN:VEVENT
DTSTART;VALUE=DATE:20120429
DTEND;VALUE=DATE:20120430
TRANSP:TRANSPARENT
X-MICROSOFT-CDO-ALLDAYEVENT:TRUE
SUMMARY:Sertoma Athletic Banquet
DESCRIPTION:The Beatrice Sertoma Club 38th Annual Athletic Banquet\n\n\n\nSunday\, April 29\n\n6:30 pm\n\n\n\nAunt Mary's Center\, Beatrice\n\n\n\nThe club will honor 20 student-athletes from 10 high schools\, who were chosen by their coaches and athletic directors as the school's outstanding male and female athletes.\n\n\n\nGuest speaker for the banquet will be former Nebraska defensive back Austin Cassidy\, who earned honors both on the field and in the classroom for the Huskers.\n\n\n\nTickets for the banquet are available by contacting Lorna Hohbein at 402-239-4484 or at Radio Shack in downtown Beatrice.\n\n\n\nThe tickets\, which include a chicken breast dinner\, are $13 and must be purchased by April 23.
X-ALT-DESC;FMTTYPE=text/html:The Beatrice Sertoma&nbsp\;Club 38th Annual&nbsp\;Athletic Banquet<br />\n<br />\nSunday\, April 29<br />\n6:30 pm<br />\n<br />\nAunt Mary&#39\;s Center\, Beatrice<br />\n<br />\nThe club will honor 20 student-athletes from 10 high schools\, who were chosen by their coaches and athletic directors as the school&#39\;s outstanding male and female athletes.<br />\n<br />\nGuest speaker for the banquet will be former Nebraska defensive&nbsp\;back Austin&nbsp\;Cassidy\, who earned&nbsp\;honors both on the field and in the classroom for the Huskers.<br />\n<br />\nTickets for the banquet are available by contacting Lorna Hohbein at&nbsp\;402-239-4484 or&nbsp\;at Radio Shack in downtown Beatrice.<br />\n<br />\nThe tickets\, which include&nbsp\;a chicken breast dinner\, are $13 and must be purchased by April 23.
LOCATION:
UID:e.41.5488
SEQUENCE:3
DTSTAMP:20260422T154735Z
URL:https://business.beatricechamber.com/events/details/sertoma-athletic-banquet-04-29-2012-5488
END:VEVENT

END:VCALENDAR
