BEGIN:VCALENDAR
VERSION:2.0
PRODID:-//ChamberMaster//Event Calendar 2.0//EN
METHOD:PUBLISH
X-PUBLISHED-TTL:P3D
REFRESH-INTERVAL:P3D
CALSCALE:GREGORIAN
BEGIN:VEVENT
DTSTART:20100208T150000Z
DTEND:20100208T200000Z
X-MICROSOFT-CDO-ALLDAYEVENT:FALSE
SUMMARY:Sewing For Babies
DESCRIPTION:SEWING FOR BABIES Volunteers are asked to bring a scissors and sack lunch.
X-ALT-DESC;FMTTYPE=text/html:<div><span style="font-size: medium">SEWING FOR BABIES</span></div><div>&nbsp\;</div><div>Volunteers are asked to bring a scissors and sack lunch.</div>
LOCATION:Christ Community Church2727 Lincoln Blvd.Beatrice\, NE
UID:e.41.1586
SEQUENCE:3
DTSTAMP:20260425T164423Z
URL:https://business.beatricechamber.com/events/details/sewing-for-babies-02-08-2010-1586
END:VEVENT

END:VCALENDAR
