BEGIN:VCALENDAR
VERSION:2.0
PRODID:-//ChamberMaster//Event Calendar 2.0//EN
METHOD:PUBLISH
X-PUBLISHED-TTL:P3D
REFRESH-INTERVAL:P3D
CALSCALE:GREGORIAN
BEGIN:VEVENT
DTSTART;VALUE=DATE:20120204
DTEND;VALUE=DATE:20120206
TRANSP:TRANSPARENT
X-MICROSOFT-CDO-ALLDAYEVENT:TRUE
SUMMARY:"Shane (NR)" - Hollywood and Homesteading
DESCRIPTION:"Shane (NR)" - Hollywood and Homesteading\n\n\n\nSaturday\, February 4\n\n2 pm\n\n\n\nSunday\, February 5\n\n2 pm\n\n\n\nHomestead National Monument of America's Education Center\n\nFilm is not rated.\n\n\n\nAll films in this festival feature the homesteading story in their plot or storyline.  No cost\; tickets are not needed to attend.\n\n\n\n402-223-3514 or visit http://www.nps.gov/home/index.htm.
X-ALT-DESC;FMTTYPE=text/html:&quot\;Shane (NR)&quot\; - Hollywood and Homesteading<br />\n<br />\nSaturday\, February 4<br />\n2 pm<br />\n<br />\nSunday\, February 5<br />\n2 pm<br />\n<br />\nHomestead National Monument of America&#39\;s Education Center<br />\nFilm is not rated.<br />\n<br />\nAll films in this festival feature the homesteading story in their plot or storyline.&nbsp\; No cost\; tickets are not needed to attend.<br />\n<br />\n402-223-3514 or visit http://www.nps.gov/home/index.htm.<br />\n
LOCATION:
UID:e.41.5293
SEQUENCE:3
DTSTAMP:20260422T185736Z
URL:https://business.beatricechamber.com/events/details/shane-nr-hollywood-and-homesteading-02-04-2012-5293
END:VEVENT

END:VCALENDAR
